BEGIN:VCALENDAR
VERSION:2.0
PRODID:-//wp-events-plugin.com//7.2.3.1//EN
BEGIN:VEVENT
UID:325@ealinganchor.org.uk
DTSTART:20230207T130000Z
DTEND:20230207T141500Z
DTSTAMP:20230206T090054Z
URL:https://ealinganchor.org.uk/events/tuesday-7th-january-afternoon-music
 -therapy-play-and-support-session-100pm-215pm/
SUMMARY:Tuesday 7th February Afternoon music therapy & play and support ses
 sion 1:00pm - 2:15pm
DESCRIPTION:[contact-form][contact-field label="Name" type="name" required=
 "1"][contact-field label="Child's Name and Sibling Name/s" type="text" req
 uired="1"][contact-field label="Afternoon  session 1:00pm - 2:15pm" type="
 checkbox"][contact-field label="Transport Required (you will need to be on
  the approved transport list)." type="checkbox"][/contact-form]
LOCATION:Windmill Children Centre\, Windmills Children's Centre\, 135-139 W
 indmill Ln\, Greenford\, Middlesex\, UB6 9DZ\, London\, United Kingdom
X-APPLE-STRUCTURED-LOCATION;VALUE=URI;X-ADDRESS=Windmills Children's Centre
 \, 135-139 Windmill Ln\, Greenford\, Middlesex\, UB6 9DZ\, London\, United
  Kingdom;X-APPLE-RADIUS=100;X-TITLE=Windmill Children Centre:geo:0,0
END:VEVENT
END:VCALENDAR