BEGIN:VCALENDAR
VERSION:2.0
PRODID:-//wp-events-plugin.com//7.2.3.1//EN
BEGIN:VEVENT
UID:1381@ealinganchor.org.uk
DTSTART:20250613T100000Z
DTEND:20250613T120000Z
DTSTAMP:20250610T111332Z
URL:https://ealinganchor.org.uk/events/tots-21-coffee-morning-10am-12noon/
SUMMARY:Tots 21 Coffee Morning Friday 13th June 10am-12noon
DESCRIPTION:\n\n[contact-form to="info@ealinganchor.org.uk" subject="Grange
  Opening Event!"][contact-field label="Parent or Carer Name" type="name" r
 equired="1"][contact-field label="Mobile Telephone Number" type="text" req
 uired="1"][contact-field label="Child's Name" type="text" required="1"][co
 ntact-field label="Child's Name" type="text"][/contact-form]
END:VEVENT
END:VCALENDAR