BEGIN:VCALENDAR
VERSION:2.0
PRODID:-//wp-events-plugin.com//7.2.3.1//EN
BEGIN:VEVENT
UID:1362@ealinganchor.org.uk
DTSTART:20250606T103000Z
DTEND:20250606T121500Z
DTSTAMP:20250605T115940Z
URL:https://ealinganchor.org.uk/events/play-and-support-session-friday-6th
 -june1030am-1215pm-2/
SUMMARY:Play and Support Session  Friday 6th June 10:30am-12:15pm
DESCRIPTION:Please pay transport £3 per family using this link https://pay
 .sumup.com/b2c/Q0NR3WZV
CATEGORIES:Play Sessions
LOCATION:Windmill Children Centre\, Windmills Children's Centre\, 135-139 W
 indmill Ln\, Greenford\, Middlesex\, UB6 9DZ\, London\, United Kingdom
X-APPLE-STRUCTURED-LOCATION;VALUE=URI;X-ADDRESS=Windmills Children's Centre
 \, 135-139 Windmill Ln\, Greenford\, Middlesex\, UB6 9DZ\, London\, United
  Kingdom;X-APPLE-RADIUS=100;X-TITLE=Windmill Children Centre:geo:0,0
END:VEVENT
END:VCALENDAR