BEGIN:VCALENDAR
VERSION:2.0
PRODID:-//wp-events-plugin.com//7.2.3.1//EN
BEGIN:VEVENT
UID:1366@ealinganchor.org.uk
DTSTART:20250704T103000Z
DTEND:20250704T121500Z
DTSTAMP:20250703T091314Z
URL:https://ealinganchor.org.uk/events/play-and-support-session-friday-4th
 -july1030am-1215pm-2/
SUMMARY:Play and Support Session  Friday 4th July10:30am-12:15pm FULLY BOOK
 ED
DESCRIPTION:
CATEGORIES:Play Sessions
LOCATION:Windmill Children Centre\, Windmills Children's Centre\, 135-139 W
 indmill Ln\, Greenford\, Middlesex\, UB6 9DZ\, London\, United Kingdom
X-APPLE-STRUCTURED-LOCATION;VALUE=URI;X-ADDRESS=Windmills Children's Centre
 \, 135-139 Windmill Ln\, Greenford\, Middlesex\, UB6 9DZ\, London\, United
  Kingdom;X-APPLE-RADIUS=100;X-TITLE=Windmill Children Centre:geo:0,0
END:VEVENT
END:VCALENDAR