BEGIN:VCALENDAR
VERSION:2.0
PRODID:-//wp-events-plugin.com//7.2.3.1//EN
BEGIN:VEVENT
UID:1364@ealinganchor.org.uk
DTSTART:20250620T103000Z
DTEND:20250620T121500Z
DTSTAMP:20250626T072455Z
URL:https://ealinganchor.org.uk/events/play-and-support-session-friday-20t
 h-june1030am-1215pm-2/
SUMMARY:Play and Support Session  Friday 20th June10:30am-12:15pm
DESCRIPTION:&nbsp\;\n\n[contact-form][contact-field label="Name" type="name
 " required="1"][contact-field label="Child's Name and Sibling Name/s" type
 ="name" required="1"][contact-field label="Transport required - payment of
  £3 will need to be paid in advance using the link below.(You will need t
 o be on the transport list.  Please ask a member of staff if you are in ne
 ed of transport to the sessions)." type="checkbox"][contact-field label="P
 hone number" type="text"][/contact-form]\n\n&nbsp\;\n\n&nbsp\;\n\nPlease u
 se the link below to book for transport £3 per family https://pay.sumup.c
 om/b2c/Q0NR3WZV
CATEGORIES:Play Sessions
LOCATION:Windmill Children Centre\, Windmills Children's Centre\, 135-139 W
 indmill Ln\, Greenford\, Middlesex\, UB6 9DZ\, London\, United Kingdom
X-APPLE-STRUCTURED-LOCATION;VALUE=URI;X-ADDRESS=Windmills Children's Centre
 \, 135-139 Windmill Ln\, Greenford\, Middlesex\, UB6 9DZ\, London\, United
  Kingdom;X-APPLE-RADIUS=100;X-TITLE=Windmill Children Centre:geo:0,0
END:VEVENT
END:VCALENDAR