BEGIN:VCALENDAR
VERSION:2.0
PRODID:-//wp-events-plugin.com//7.2.3.1//EN
BEGIN:VEVENT
UID:1650@ealinganchor.org.uk
DTSTART:20260417T103000Z
DTEND:20260417T121500Z
DTSTAMP:20260416T125446Z
URL:https://ealinganchor.org.uk/events/play-and-support-session-friday-17-
 april-1030am-1215pm/
SUMMARY:Play and Support Session at Hanwell Community Centre Friday 17th Ap
 ril 10:30am-12:15pm
DESCRIPTION:
CATEGORIES:Play Sessions
LOCATION:https://www.google.co.uk/maps/place/Hanwell+Community+Centre/@51.5
 210125,-0.3381075,17z/data=!3m1!4b1!4m6!3m5!1s0x4876128691e263a9:0x5f5d787
 6bc4e4683!8m2!3d51.5210092!4d-0.3355326!16s%2Fg%2F1tcvyxjy?entry=ttu&g_ep=
 EgoyMDI2MDQxMy4wIKXMDSoASAFQAw%3D%3D
END:VEVENT
END:VCALENDAR