BEGIN:VCALENDAR
VERSION:2.0
PRODID:-//wp-events-plugin.com//7.2.3.1//EN
BEGIN:VEVENT
UID:1452@ealinganchor.org.uk
DTSTART:20251007T103000Z
DTEND:20251007T121500Z
DTSTAMP:20251006T113214Z
URL:https://ealinganchor.org.uk/events/parent-group-session-tuesday-7th-oc
 tober-1030am-1215pm/
SUMMARY:Parent Carer Support Group session - Topic: Managing Anger & Stress
  Part 2   Tuesday 7th October 10:30am- 12:15pm FULLY BOOKED
DESCRIPTION:Located at Windmill Children's Centre\, Greenford UB6 9DZ\, our
  Parent carer support group is here to help you feel less isolated.\nIt's 
 a safe place to share your highs and your lows\, giving you the opportunit
 y to:\n\n\n\n 	talk about your personal stories\n 	Talk about feelings and
  concerns.\n 	Share coping strategies.\n 	Talk about other helpful informa
 tion you and others have learned through having related experiences\n 	or 
 just to listen if you prefer.\n\nThe topic for this group session will be 
 continuing on from our last group session on Managing Anger &amp\; Stress.
    Even if you didn't join us at the last session\, you are very welcome
  to come along to this one and future group sessions.\n\nOther date for yo
 ur diary\n\n\n\n\nTues 21st October  Low Self Esteem\n\n\n\n\nSign up be
 low for this group and come join us for coffee\, cake and chat.  We are w
 aiting to welcome you!\n\n\n&nbsp\;\n\n&nbsp\;
CATEGORIES:Parent Group
LOCATION:Windmill Children Centre\, Windmills Children's Centre\, 135-139 W
 indmill Ln\, Greenford\, Middlesex\, UB6 9DZ\, London\, United Kingdom
X-APPLE-STRUCTURED-LOCATION;VALUE=URI;X-ADDRESS=Windmills Children's Centre
 \, 135-139 Windmill Ln\, Greenford\, Middlesex\, UB6 9DZ\, London\, United
  Kingdom;X-APPLE-RADIUS=100;X-TITLE=Windmill Children Centre:geo:0,0
END:VEVENT
END:VCALENDAR