BEGIN:VCALENDAR
VERSION:2.0
PRODID:-//wp-events-plugin.com//7.2.3.1//EN
BEGIN:VEVENT
UID:1387@ealinganchor.org.uk
DTSTART:20250513T104500Z
DTEND:20250513T120000Z
DTSTAMP:20250512T091430Z
URL:https://ealinganchor.org.uk/events/parent-carer-support-group/
SUMMARY:Parent Carer Support Group -  Topic:  Coping as a Carer
DESCRIPTION:[contact-form][contact-field label="Name" type="name" required=
 "1"][contact-field label="Child's Name and Sibling Name/s" type="name" req
 uired="1"][contact-field label="Transport required - payment of £3 will n
 eed to be paid in advance using the link below.(You will need to be on the
  transport list.  Please ask a member of staff if you are in need of trans
 port to the sessions)." type="checkbox"][contact-field label="Phone number
 " type="textarea"][/contact-form]\n\n&nbsp\;\n\nPlease use this link to to
  pay for transport £3 https://pay.sumup.com/b2c/Q0NR3WZV\n\n
END:VEVENT
END:VCALENDAR