BEGIN:VCALENDAR
VERSION:2.0
PRODID:-//wp-events-plugin.com//7.2.3.1//EN
BEGIN:VEVENT
UID:1378@ealinganchor.org.uk
DTSTART:20250609T190000Z
DTEND:20250609T214500Z
DTSTAMP:20250609T122241Z
URL:https://ealinganchor.org.uk/events/parent-carer-evening-monday-9th-jun
 e-7pm-9-45pm-at-molana-persian-restaurant/
SUMMARY:Parent Carer Evening Monday 9th June 7.30pm-9.45pm at Molana Persia
 n Restaurant.
DESCRIPTION:THIS EVENT IS NOW FULLY BOOKED!
LOCATION:https://www.google.com/maps/dir//The+Castelbar,+78+Uxbridge+Rd,+Lo
 ndon+W13+8RA/@51.5117113,-0.3972342,12z/data=!4m8!4m7!1m0!1m5!1m1!1s0x4876
 0d88fee9b62f:0x6e43d856de4768b9!2m2!1d-0.3148268!2d51.5117151?entry=ttu&g_
 ep=EgoyMDI1MDQxNC4xIKXMDSoJLDEwMjExNDU1SAFQAw%3D%3D
END:VEVENT
END:VCALENDAR