BEGIN:VCALENDAR
VERSION:2.0
PRODID:-//wp-events-plugin.com//7.2.3.1//EN
BEGIN:VEVENT
UID:1740@ealinganchor.org.uk
DTSTART:20260603T100000Z
DTEND:20260603T120000Z
DTSTAMP:20260408T080137Z
URL:https://ealinganchor.org.uk/events/online-understanding-autism-childre
 n-with-social-communication-differences-workshop-march-3rd-june-10am-11-30
 am-workshop/
SUMMARY:Online Understanding Autism & Children with Social Communication Di
 fferences Workshop Wednesday 3rd June 10am-12noon Workshop
DESCRIPTION:[contact-form][contact-field label="Name" type="name" required=
 "1"][contact-field label="Child's Name and Sibling Name/s" type="name" req
 uired="1"][contact-field label="Phone number" type="text"][/contact-form]\
 nFree online workshop for parents/carers of a child aged 0-5 with social c
 ommunication differences.\n\n       Run jointly with Early Start SEND and 
 Speech and Language Therapy team\n\n\nWorkshop 1. Understanding Children w
 ith Autism &amp\; Children with Social\nCommunication Differences Online W
 orkshop - 3rd May 10am-12pm\nWorkshop 2. Supporting Children with Social C
 ommunication\nDifferences Online Workshop - 10th June 10am-12pm\n\n\n\n\n\
 n\n 	Does your child have social communication differences?\n 	Are you wai
 ting for assessment from Speech and Language Therapy or the Child Developm
 ent Team?\n 	Has your child recently been diagnosed with Autism?\n\nIf you
  answered YES to any of the above questions\, this workshop is for you.\n\
 nYou will learn practical strategies to support communication\, using visu
 als\, sleep-times\, toileting and eating/drinking.\nWe recommend parents b
 ook onto both workshops as a package.\nBoth workshops will be delivered on
 line\nBOOK HERE for your free online workshop\n\n\nFor more information:\n
 \nRun by Early Start SEND Inclusion Team earlystartsendworkshops@ealing.go
 v.uk\n\nEaling Speech and Language Therapy wlm-tr.sltuniversalservices@nhs
 .net and\n\nEaling Anchor Foundation info@EalingAnchor.org.uk
END:VEVENT
END:VCALENDAR