BEGIN:VCALENDAR
VERSION:2.0
PRODID:-//wp-events-plugin.com//7.2.3.1//EN
BEGIN:VEVENT
UID:1376@ealinganchor.org.uk
DTSTART:20250618T100000Z
DTEND:20250618T113000Z
DTSTAMP:20250422T211918Z
URL:https://ealinganchor.org.uk/events/online-successful-sleep-workshop-18
 th-june-10am-11-am/
SUMMARY:Online Successful Sleep Workshop 18th June 10am-11.30am
DESCRIPTION:Do you need support with your child's SLEEP needs?\n\n\n&nbsp\;
 \n\n&nbsp\;\n\n&nbsp\;\n\n&nbsp\;\n\n&nbsp\;\n\n&nbsp\;\nRun jointly by Ea
 rly Start SEND &amp\; Inclusion and Speech and Language Therapy team\n\n\n
 \n\n 	To explore reasons behind difficult sleep times\,\n 	learn strategie
 s to minimise problems\n 	how you can support your child.  \n\nBOOK HERE
END:VEVENT
END:VCALENDAR