BEGIN:VCALENDAR
VERSION:2.0
PRODID:-//wp-events-plugin.com//7.2.3.1//EN
BEGIN:VEVENT
UID:954@ealinganchor.org.uk
DTSTART:20240607T103000Z
DTEND:20240607T121500Z
DTSTAMP:20240606T074709Z
URL:https://ealinganchor.org.uk/events/messy-play-workshop-workshop-friday
 -7th-june-1030am-1215pm/
SUMMARY:Messy Play Workshop Workshop  Friday 7th June 10:30am-12:15pmFULLY 
 BOOKED
DESCRIPTION:Attending this workshop will show you how messy play can increa
 se your child's sensory stimulation\, encourage their cognitive &amp\; lan
 guage development and emotional regulation.\nYou will learn how your child
  can explore their developing senses.\n
LOCATION:Windmill Children Centre\, Windmills Children's Centre\, 135-139 W
 indmill Ln\, Greenford\, Middlesex\, UB6 9DZ\, London\, United Kingdom
X-APPLE-STRUCTURED-LOCATION;VALUE=URI;X-ADDRESS=Windmills Children's Centre
 \, 135-139 Windmill Ln\, Greenford\, Middlesex\, UB6 9DZ\, London\, United
  Kingdom;X-APPLE-RADIUS=100;X-TITLE=Windmill Children Centre:geo:0,0
END:VEVENT
END:VCALENDAR