BEGIN:VCALENDAR
VERSION:2.0
PRODID:-//wp-events-plugin.com//7.2.3.1//EN
BEGIN:VEVENT
UID:1180@ealinganchor.org.uk
DTSTART:20250123T100000Z
DTEND:20250123T120000Z
DTSTAMP:20241224T093522Z
URL:https://ealinganchor.org.uk/events/farsi-speaking-coffee-morning-thurs
 day-23rd-january-10-00am-12-00pm/
SUMMARY:Farsi Speaking Coffee morning Thursday 23rd January 10:00am-12.00pm
  At Hanwell Community Centre.-12:15pm.
DESCRIPTION:[contact-form][contact-field label="Name" type="name" required=
 "1"][contact-field label="Child's Name and Sibling Name/s" type="name" req
 uired="1"][contact-field label="Phone number" type="text"][/contact-form]
LOCATION:Windmill Children Centre\, Windmills Children's Centre\, 135-139 W
 indmill Ln\, Greenford\, Middlesex\, UB6 9DZ\, London\, United Kingdom
X-APPLE-STRUCTURED-LOCATION;VALUE=URI;X-ADDRESS=Windmills Children's Centre
 \, 135-139 Windmill Ln\, Greenford\, Middlesex\, UB6 9DZ\, London\, United
  Kingdom;X-APPLE-RADIUS=100;X-TITLE=Windmill Children Centre:geo:0,0
END:VEVENT
END:VCALENDAR