BEGIN:VCALENDAR
VERSION:2.0
PRODID:-//wp-events-plugin.com//7.2.3.1//EN
BEGIN:VEVENT
UID:951@ealinganchor.org.uk
DTSTART:20240520T110000Z
DTEND:20240520T123000Z
DTSTAMP:20240508T074931Z
URL:https://ealinganchor.org.uk/events/ehcps-made-easy-online-workshop-mon
 day-20th-may-11am-1230pm/
SUMMARY:EHCPs Made Easy ONLINE Workshop  Monday 20th May 11am-12:30pm
DESCRIPTION:EHCPs Made Easy Flyer\nPart TWO will discuss the contents of 
 the plan\n[contact-form to="admin@ealinganchor.org.uk" subject="Social Com
 munication Workshop 10th May"][contact-field label="Name" type="name" requ
 ired="1"][contact-field label="Child's Name" type="text" required="1"][con
 tact-field label="Email address" type="text" required="1"][/contact-form]
LOCATION:Windmill Children Centre\, Windmills Children's Centre\, 135-139 W
 indmill Ln\, Greenford\, Middlesex\, UB6 9DZ\, London\, United Kingdom
X-APPLE-STRUCTURED-LOCATION;VALUE=URI;X-ADDRESS=Windmills Children's Centre
 \, 135-139 Windmill Ln\, Greenford\, Middlesex\, UB6 9DZ\, London\, United
  Kingdom;X-APPLE-RADIUS=100;X-TITLE=Windmill Children Centre:geo:0,0
END:VEVENT
END:VCALENDAR