BEGIN:VCALENDAR
VERSION:2.0
PRODID:-//wp-events-plugin.com//7.2.3.1//EN
BEGIN:VEVENT
UID:950@ealinganchor.org.uk
DTSTART:20240513T110000Z
DTEND:20240513T123000Z
DTSTAMP:20240508T074844Z
URL:https://ealinganchor.org.uk/events/ehcps-made-easy-online-workshop-mon
 day-13th-may-11am-1230pm/
SUMMARY:EHCPs Made Easy ONLINE Workshop  Monday 13th May 11am-12:30pm
DESCRIPTION:EHCPs Made Easy Flyer\n Part ONE will focus on explaining ho
 w to bring your views with needs\, drafts &amp\; annual reviews.\n[contact
 -form to="admin@ealinganchor.org.uk" subject="Social Communication Worksho
 p 10th May"][contact-field label="Name" type="name" required="1"][contact-
 field label="Child's Name" type="text" required="1"][contact-field label="
 Email address" type="text" required="1"][/contact-form]
LOCATION:Windmill Children Centre\, Windmills Children's Centre\, 135-139 W
 indmill Ln\, Greenford\, Middlesex\, UB6 9DZ\, London\, United Kingdom
X-APPLE-STRUCTURED-LOCATION;VALUE=URI;X-ADDRESS=Windmills Children's Centre
 \, 135-139 Windmill Ln\, Greenford\, Middlesex\, UB6 9DZ\, London\, United
  Kingdom;X-APPLE-RADIUS=100;X-TITLE=Windmill Children Centre:geo:0,0
END:VEVENT
END:VCALENDAR