BEGIN:VCALENDAR
VERSION:2.0
PRODID:-//wp-events-plugin.com//7.2.3.1//EN
BEGIN:VEVENT
UID:1377@ealinganchor.org.uk
DTSTART:20250520T103000Z
DTEND:20250520T121500Z
DTSTAMP:20250519T094941Z
URL:https://ealinganchor.org.uk/events/coffee-morning-20th-may-10-30-12-15
 pm/
SUMMARY:'Time to Talk' Coffee & Cake Morning with visit from CWD  20th May 
 10.30 -12.15pm FULLY BOOKED
DESCRIPTION:\nTo see our list of workshops this term\, visit the training w
 orkshops page at  
LOCATION:Windmill Children Centre\, Windmills Children's Centre\, 135-139 W
 indmill Ln\, Greenford\, Middlesex\, UB6 9DZ\, London\, United Kingdom
X-APPLE-STRUCTURED-LOCATION;VALUE=URI;X-ADDRESS=Windmills Children's Centre
 \, 135-139 Windmill Ln\, Greenford\, Middlesex\, UB6 9DZ\, London\, United
  Kingdom;X-APPLE-RADIUS=100;X-TITLE=Windmill Children Centre:geo:0,0
END:VEVENT
END:VCALENDAR